BEGIN:VCALENDAR
VERSION:2.0
PRODID:-//Sarawak Sports Corporation - ECPv6.14.2//NONSGML v1.0//EN
CALSCALE:GREGORIAN
METHOD:PUBLISH
X-WR-CALNAME:Sarawak Sports Corporation
X-ORIGINAL-URL:https://ssc16.gov.my/bm
X-WR-CALDESC:Events for Sarawak Sports Corporation
REFRESH-INTERVAL;VALUE=DURATION:PT1H
X-Robots-Tag:noindex
X-PUBLISHED-TTL:PT1H
BEGIN:VTIMEZONE
TZID:Asia/Shanghai
BEGIN:STANDARD
TZOFFSETFROM:+0800
TZOFFSETTO:+0800
TZNAME:CST
DTSTART:20180101T000000
END:STANDARD
END:VTIMEZONE
BEGIN:VEVENT
DTSTART;TZID=Asia/Shanghai:20180724T140000
DTEND;TZID=Asia/Shanghai:20180724T160000
DTSTAMP:20260426T094757
CREATED:20180705T075233Z
LAST-MODIFIED:20180705T075233Z
UID:17523-1532440800-1532448000@ssc16.gov.my
SUMMARY:Majlis Countdown 50 hari Ke SUKMA XIX Perak 2018
DESCRIPTION:Majlis Countdown 50 hari Ke SUKMA XIX Perak 2018 \nTarikh : 24 Julai 2018 \nTempat : Akan diumumkan kemudian
URL:https://ssc16.gov.my/bm/event/majlis-countdown-50-hari-ke-sukma-xix-perak-2018/
LOCATION:Sarawak
CATEGORIES:MSNS
ATTACH;FMTTYPE=image/jpeg:https://ssc16.gov.my/bm/wp-content/uploads/2018/07/Countdown-50-days_edited.jpg
END:VEVENT
BEGIN:VEVENT
DTSTART;TZID=Asia/Shanghai:20180715T193000
DTEND;TZID=Asia/Shanghai:20180716T010000
DTSTAMP:20260426T094757
CREATED:20180713T075337Z
LAST-MODIFIED:20180713T075344Z
UID:17560-1531683000-1531702800@ssc16.gov.my
SUMMARY:Santai Belia bersama Menteri
DESCRIPTION:15 Julai 2018 @ Celebration Square\, Stadium Sarawak Petra Jaya\, Kuching.
URL:https://ssc16.gov.my/bm/event/santai-belia-bersama-menteri/
LOCATION:Celebration Square\, Jalan Stadium\, Petra Jaya\, Kuching\, Sarawak\, 93050\, Malaysia
CATEGORIES:MSNS,SSC
END:VEVENT
END:VCALENDAR